Package: plotgardener Version: 1.10.1 Command: rm -rf plotgardener.buildbin-libdir && mkdir plotgardener.buildbin-libdir && F:\biocbuild\bbs-3.19-bioc\R\bin\R.exe CMD INSTALL --build --library=plotgardener.buildbin-libdir plotgardener_1.10.1.tar.gz StartedAt: 2024-06-27 08:41:04 -0400 (Thu, 27 Jun 2024) EndedAt: 2024-06-27 08:42:28 -0400 (Thu, 27 Jun 2024) EllapsedTime: 84.1 seconds RetCode: 0 Status: OK PackageFile: plotgardener_1.10.1.zip PackageFileSize: 3.566 MiB