Package: plotgardener Version: 1.10.1 Command: chmod a+r plotgardener -R && F:\biocbuild\bbs-3.19-bioc\R\bin\R.exe CMD build --keep-empty-dirs --no-resave-data plotgardener StartedAt: 2024-06-26 21:00:46 -0400 (Wed, 26 Jun 2024) EndedAt: 2024-06-26 21:06:00 -0400 (Wed, 26 Jun 2024) EllapsedTime: 314.5 seconds RetCode: 0 Status: OK PackageFile: plotgardener_1.10.1.tar.gz PackageFileSize: 2.508 MiB