Package: plotgardener Version: 1.10.2 Command: chmod a+r plotgardener -R && E:\biocbuild\bbs-3.19-bioc\R\bin\R.exe CMD build --keep-empty-dirs --no-resave-data plotgardener StartedAt: 2024-10-16 21:08:34 -0400 (Wed, 16 Oct 2024) EndedAt: 2024-10-16 21:13:30 -0400 (Wed, 16 Oct 2024) EllapsedTime: 295.8 seconds RetCode: 0 Status: OK PackageFile: plotgardener_1.10.2.tar.gz PackageFileSize: 2.508 MiB