Package: plotgardener Version: 1.10.2 Command: E:\biocbuild\bbs-3.19-bioc\R\bin\R.exe CMD check --no-multiarch --install=check:plotgardener.install-out.txt --library=E:\biocbuild\bbs-3.19-bioc\R\library --no-vignettes --timings plotgardener_1.10.2.tar.gz StartedAt: 2024-10-17 04:30:59 -0400 (Thu, 17 Oct 2024) EndedAt: 2024-10-17 04:38:21 -0400 (Thu, 17 Oct 2024) EllapsedTime: 442.0 seconds RetCode: 0 Status: OK CheckDir: plotgardener.Rcheck Warnings: 0