Package: plyranges Version: 1.24.0 Command: /Library/Frameworks/R.framework/Resources/bin/R CMD build --keep-empty-dirs --no-resave-data plyranges StartedAt: 2024-10-17 06:32:57 -0400 (Thu, 17 Oct 2024) EndedAt: 2024-10-17 06:34:08 -0400 (Thu, 17 Oct 2024) EllapsedTime: 70.8 seconds RetCode: 0 Status: OK PackageFile: plyranges_1.24.0.tar.gz PackageFileSize: 1.241 MiB