Package: plyranges Version: 1.24.0 Command: /Library/Frameworks/R.framework/Resources/bin/R CMD build --keep-empty-dirs --no-resave-data plyranges StartedAt: 2024-06-10 02:38:44 -0400 (Mon, 10 Jun 2024) EndedAt: 2024-06-10 02:40:08 -0400 (Mon, 10 Jun 2024) EllapsedTime: 84.3 seconds RetCode: 0 Status: OK PackageFile: plyranges_1.24.0.tar.gz PackageFileSize: 1.241 MiB