Package: plyranges Version: 1.24.0 Command: /Library/Frameworks/R.framework/Resources/bin/R CMD check --install=check:plyranges.install-out.txt --library=/Library/Frameworks/R.framework/Resources/library --no-vignettes --timings plyranges_1.24.0.tar.gz StartedAt: 2024-06-11 01:29:35 -0400 (Tue, 11 Jun 2024) EndedAt: 2024-06-11 01:37:20 -0400 (Tue, 11 Jun 2024) EllapsedTime: 464.5 seconds RetCode: 1 Status: ERROR CheckDir: plyranges.Rcheck Warnings: NA