Package: plyranges Version: 1.24.0 Command: /Library/Frameworks/R.framework/Resources/bin/R CMD build --keep-empty-dirs --no-resave-data plyranges StartedAt: 2024-10-16 22:08:58 -0400 (Wed, 16 Oct 2024) EndedAt: 2024-10-16 22:11:21 -0400 (Wed, 16 Oct 2024) EllapsedTime: 142.7 seconds RetCode: 0 Status: OK PackageFile: plyranges_1.24.0.tar.gz PackageFileSize: 1.241 MiB