Package: plyranges Version: 1.24.0 Command: chmod a+r plyranges -R && F:\biocbuild\bbs-3.19-bioc\R\bin\R.exe CMD build --keep-empty-dirs --no-resave-data plyranges StartedAt: 2024-06-26 21:01:14 -0400 (Wed, 26 Jun 2024) EndedAt: 2024-06-26 21:02:42 -0400 (Wed, 26 Jun 2024) EllapsedTime: 87.9 seconds RetCode: 0 Status: OK PackageFile: plyranges_1.24.0.tar.gz PackageFileSize: 1.225 MiB