Package: plyranges Version: 1.24.0 Command: F:\biocbuild\bbs-3.19-bioc\R\bin\R.exe CMD INSTALL plyranges StartedAt: 2024-06-26 16:03:17 -0400 (Wed, 26 Jun 2024) EndedAt: 2024-06-26 16:04:16 -0400 (Wed, 26 Jun 2024) EllapsedTime: 59.4 seconds RetCode: 0 Status: OK