Package: plyranges Version: 1.24.0 Command: chmod a+r plyranges -R && E:\biocbuild\bbs-3.19-bioc\R\bin\R.exe CMD build --keep-empty-dirs --no-resave-data plyranges StartedAt: 2024-10-16 21:09:01 -0400 (Wed, 16 Oct 2024) EndedAt: 2024-10-16 21:10:19 -0400 (Wed, 16 Oct 2024) EllapsedTime: 77.4 seconds RetCode: 0 Status: OK PackageFile: plyranges_1.24.0.tar.gz PackageFileSize: 1.225 MiB