Package: pmp Version: 1.16.0 Command: /Library/Frameworks/R.framework/Resources/bin/R CMD check --install=check:pmp.install-out.txt --library=/Library/Frameworks/R.framework/Resources/library --no-vignettes --timings pmp_1.16.0.tar.gz StartedAt: 2024-06-11 01:30:04 -0400 (Tue, 11 Jun 2024) EndedAt: 2024-06-11 01:35:26 -0400 (Tue, 11 Jun 2024) EllapsedTime: 322.5 seconds RetCode: 1 Status: ERROR CheckDir: pmp.Rcheck Warnings: NA