Package: pmp Version: 1.16.0 Command: /Library/Frameworks/R.framework/Resources/bin/R CMD INSTALL pmp StartedAt: 2024-06-09 16:15:28 -0400 (Sun, 09 Jun 2024) EndedAt: 2024-06-09 16:16:06 -0400 (Sun, 09 Jun 2024) EllapsedTime: 38.2 seconds RetCode: 0 Status: OK