Package: pmp Version: 1.16.0 Command: /Library/Frameworks/R.framework/Resources/bin/R CMD build --keep-empty-dirs --no-resave-data pmp StartedAt: 2024-10-16 22:09:06 -0400 (Wed, 16 Oct 2024) EndedAt: 2024-10-16 22:12:40 -0400 (Wed, 16 Oct 2024) EllapsedTime: 213.1 seconds RetCode: 0 Status: OK PackageFile: pmp_1.16.0.tar.gz PackageFileSize: 5.166 MiB