Package: pmp Version: 1.16.0 Command: /home/biocbuild/bbs-3.19-bioc/R/bin/R CMD INSTALL pmp StartedAt: 2024-10-16 16:16:44 -0400 (Wed, 16 Oct 2024) EndedAt: 2024-10-16 16:17:07 -0400 (Wed, 16 Oct 2024) EllapsedTime: 22.8 seconds RetCode: 0 Status: OK