Package: pogos Version: 1.24.0 Command: rm -rf pogos.buildbin-libdir && mkdir pogos.buildbin-libdir && /Users/biocbuild/BBS/utils/build-universal.sh pogos_1.24.0.tar.gz /Library/Frameworks/R.framework/Resources/bin/R pogos.buildbin-libdir StartedAt: 2024-10-18 19:59:09 -0400 (Fri, 18 Oct 2024) EndedAt: 2024-10-18 20:00:02 -0400 (Fri, 18 Oct 2024) EllapsedTime: 53.5 seconds RetCode: 0 Status: OK PackageFile: pogos_1.24.0.tgz PackageFileSize: 1.787 MiB