Package: pogos Version: 1.24.0 Command: /Library/Frameworks/R.framework/Resources/bin/R CMD INSTALL pogos StartedAt: 2024-10-16 17:33:36 -0400 (Wed, 16 Oct 2024) EndedAt: 2024-10-16 17:34:17 -0400 (Wed, 16 Oct 2024) EllapsedTime: 40.8 seconds RetCode: 0 Status: OK