Package: pogos Version: 1.24.0 Command: rm -rf pogos.buildbin-libdir && mkdir pogos.buildbin-libdir && /Users/biocbuild/BBS/utils/build-universal.sh pogos_1.24.0.tar.gz /Library/Frameworks/R.framework/Resources/bin/R pogos.buildbin-libdir StartedAt: 2024-06-11 12:33:19 -0400 (Tue, 11 Jun 2024) EndedAt: 2024-06-11 12:34:24 -0400 (Tue, 11 Jun 2024) EllapsedTime: 65.3 seconds RetCode: 0 Status: OK PackageFile: pogos_1.24.0.tgz PackageFileSize: 1.784 MiB