Package: pogos Version: 1.24.0 Command: /home/biocbuild/R/R-beta-2024-04-15_r86425/bin/R CMD build --keep-empty-dirs --no-resave-data pogos StartedAt: 2024-05-09 02:34:09 -0000 (Thu, 09 May 2024) EndedAt: 2024-05-09 02:37:40 -0000 (Thu, 09 May 2024) EllapsedTime: 211.3 seconds RetCode: 0 Status: OK PackageFile: pogos_1.24.0.tar.gz PackageFileSize: 1.861 MiB