Package: pogos Version: 1.24.0 Command: /Library/Frameworks/R.framework/Resources/bin/R CMD build --keep-empty-dirs --no-resave-data pogos StartedAt: 2024-10-16 22:09:46 -0400 (Wed, 16 Oct 2024) EndedAt: 2024-10-16 22:15:29 -0400 (Wed, 16 Oct 2024) EllapsedTime: 342.7 seconds RetCode: 0 Status: OK PackageFile: pogos_1.24.0.tar.gz PackageFileSize: 2.489 MiB