Package: pogos Version: 1.24.0 Command: /Library/Frameworks/R.framework/Resources/bin/R CMD check --install=check:pogos.install-out.txt --library=/Library/Frameworks/R.framework/Resources/library --no-vignettes --timings pogos_1.24.0.tar.gz StartedAt: 2024-10-17 10:59:22 -0400 (Thu, 17 Oct 2024) EndedAt: 2024-10-17 11:08:55 -0400 (Thu, 17 Oct 2024) EllapsedTime: 572.7 seconds RetCode: 0 Status: OK CheckDir: pogos.Rcheck Warnings: 0