Package: pogos Version: 1.24.0 Command: /Library/Frameworks/R.framework/Resources/bin/R CMD INSTALL pogos StartedAt: 2024-10-16 16:06:16 -0400 (Wed, 16 Oct 2024) EndedAt: 2024-10-16 16:07:37 -0400 (Wed, 16 Oct 2024) EllapsedTime: 80.9 seconds RetCode: 0 Status: OK