Package: polyester Version: 1.40.0 Command: rm -rf polyester.buildbin-libdir && mkdir polyester.buildbin-libdir && /Users/biocbuild/BBS/utils/build-universal.sh polyester_1.40.0.tar.gz /Library/Frameworks/R.framework/Resources/bin/R polyester.buildbin-libdir StartedAt: 2024-10-18 19:59:34 -0400 (Fri, 18 Oct 2024) EndedAt: 2024-10-18 19:59:52 -0400 (Fri, 18 Oct 2024) EllapsedTime: 17.9 seconds RetCode: 0 Status: OK PackageFile: polyester_1.40.0.tgz PackageFileSize: 1.935 MiB