Package: polyester Version: 1.40.0 Command: /Library/Frameworks/R.framework/Resources/bin/R CMD check --install=check:polyester.install-out.txt --library=/Library/Frameworks/R.framework/Resources/library --no-vignettes --timings polyester_1.40.0.tar.gz StartedAt: 2024-10-18 07:44:54 -0400 (Fri, 18 Oct 2024) EndedAt: 2024-10-18 07:46:45 -0400 (Fri, 18 Oct 2024) EllapsedTime: 110.3 seconds RetCode: 1 Status: ERROR CheckDir: polyester.Rcheck Warnings: NA