Package: polyester Version: 1.40.0 Command: /Library/Frameworks/R.framework/Resources/bin/R CMD build --keep-empty-dirs --no-resave-data polyester StartedAt: 2024-06-10 02:40:32 -0400 (Mon, 10 Jun 2024) EndedAt: 2024-06-10 02:41:14 -0400 (Mon, 10 Jun 2024) EllapsedTime: 42.1 seconds RetCode: 0 Status: OK PackageFile: polyester_1.40.0.tar.gz PackageFileSize: 1.813 MiB