Package: polyester Version: 1.40.0 Command: /Library/Frameworks/R.framework/Resources/bin/R CMD check --install=check:polyester.install-out.txt --library=/Library/Frameworks/R.framework/Resources/library --no-vignettes --timings polyester_1.40.0.tar.gz StartedAt: 2024-06-11 01:34:24 -0400 (Tue, 11 Jun 2024) EndedAt: 2024-06-11 01:37:03 -0400 (Tue, 11 Jun 2024) EllapsedTime: 158.9 seconds RetCode: 1 Status: ERROR CheckDir: polyester.Rcheck Warnings: NA