Package: polyester Version: 1.40.0 Command: /Library/Frameworks/R.framework/Resources/bin/R CMD check --install=check:polyester.install-out.txt --library=/Library/Frameworks/R.framework/Resources/library --no-vignettes --timings polyester_1.40.0.tar.gz StartedAt: 2024-06-09 22:16:39 -0400 (Sun, 09 Jun 2024) EndedAt: 2024-06-09 22:18:28 -0400 (Sun, 09 Jun 2024) EllapsedTime: 109.0 seconds RetCode: 1 Status: ERROR CheckDir: polyester.Rcheck Warnings: NA