Package: polyester Version: 1.40.0 Command: /Library/Frameworks/R.framework/Resources/bin/R CMD INSTALL polyester StartedAt: 2024-06-09 15:08:46 -0400 (Sun, 09 Jun 2024) EndedAt: 2024-06-09 15:09:01 -0400 (Sun, 09 Jun 2024) EllapsedTime: 15.4 seconds RetCode: 0 Status: OK