Package: polyester Version: 1.40.0 Command: /home/biocbuild/bbs-3.19-bioc/R/bin/R CMD build --keep-empty-dirs --no-resave-data polyester StartedAt: 2024-10-16 20:10:37 -0400 (Wed, 16 Oct 2024) EndedAt: 2024-10-16 20:11:05 -0400 (Wed, 16 Oct 2024) EllapsedTime: 28.1 seconds RetCode: 0 Status: OK PackageFile: polyester_1.40.0.tar.gz PackageFileSize: 1.814 MiB