Package: polyester Version: 1.40.0 Command: rm -rf polyester.buildbin-libdir && mkdir polyester.buildbin-libdir && E:\biocbuild\bbs-3.19-bioc\R\bin\R.exe CMD INSTALL --build --library=polyester.buildbin-libdir polyester_1.40.0.tar.gz StartedAt: 2024-10-17 08:22:07 -0400 (Thu, 17 Oct 2024) EndedAt: 2024-10-17 08:22:36 -0400 (Thu, 17 Oct 2024) EllapsedTime: 29.8 seconds RetCode: 0 Status: OK PackageFile: polyester_1.40.0.zip PackageFileSize: 1.929 MiB