Package: polyester Version: 1.40.0 Command: E:\biocbuild\bbs-3.19-bioc\R\bin\R.exe CMD INSTALL polyester StartedAt: 2024-10-16 16:12:13 -0400 (Wed, 16 Oct 2024) EndedAt: 2024-10-16 16:12:44 -0400 (Wed, 16 Oct 2024) EllapsedTime: 31.0 seconds RetCode: 0 Status: OK