Package: ppcseq Version: 1.12.0 Command: rm -rf ppcseq.buildbin-libdir && mkdir ppcseq.buildbin-libdir && /Users/biocbuild/BBS/utils/build-universal.sh ppcseq_1.12.0.tar.gz /Library/Frameworks/R.framework/Resources/bin/R ppcseq.buildbin-libdir StartedAt: 2024-10-18 19:59:43 -0400 (Fri, 18 Oct 2024) EndedAt: 2024-10-18 20:02:12 -0400 (Fri, 18 Oct 2024) EllapsedTime: 148.6 seconds RetCode: 0 Status: OK PackageFile: ppcseq_1.12.0.tgz PackageFileSize: 2.567 MiB