Package: ppcseq Version: 1.12.0 Command: /home/biocbuild/R/R-beta-2024-04-15_r86425/bin/R CMD build --keep-empty-dirs --no-resave-data ppcseq StartedAt: 2024-05-09 02:34:47 -0000 (Thu, 09 May 2024) EndedAt: 2024-05-09 02:57:24 -0000 (Thu, 09 May 2024) EllapsedTime: 1356.8 seconds RetCode: 0 Status: OK PackageFile: ppcseq_1.12.0.tar.gz PackageFileSize: 2.036 MiB