Package: ppcseq Version: 1.12.0 Command: /home/biocbuild/R/R-beta-2024-04-15_r86425/bin/R CMD INSTALL ppcseq StartedAt: 2024-05-08 20:11:02 -0000 (Wed, 08 May 2024) EndedAt: 2024-05-08 20:15:23 -0000 (Wed, 08 May 2024) EllapsedTime: 261.9 seconds RetCode: 0 Status: OK