Package: ppcseq Version: 1.12.0 Command: rm -rf ppcseq.buildbin-libdir && mkdir ppcseq.buildbin-libdir && /Users/biocbuild/BBS/utils/build-universal.sh ppcseq_1.12.0.tar.gz /Library/Frameworks/R.framework/Resources/bin/R ppcseq.buildbin-libdir StartedAt: 2024-06-10 00:32:39 -0400 (Mon, 10 Jun 2024) EndedAt: 2024-06-10 00:35:16 -0400 (Mon, 10 Jun 2024) EllapsedTime: 156.6 seconds RetCode: 0 Status: OK PackageFile: ppcseq_1.12.0.tgz PackageFileSize: 2.716 MiB