Package: ppcseq Version: 1.12.0 Command: /home/biocbuild/bbs-3.19-bioc/R/bin/R CMD check --install=check:ppcseq.install-out.txt --library=/home/biocbuild/bbs-3.19-bioc/R/site-library --timings ppcseq_1.12.0.tar.gz StartedAt: 2024-10-17 03:50:55 -0400 (Thu, 17 Oct 2024) EndedAt: 2024-10-17 04:05:47 -0400 (Thu, 17 Oct 2024) EllapsedTime: 892.9 seconds RetCode: 0 Status: OK CheckDir: ppcseq.Rcheck Warnings: 0