Package: ppcseq Version: 1.12.0 Command: rm -rf ppcseq.buildbin-libdir && mkdir ppcseq.buildbin-libdir && E:\biocbuild\bbs-3.19-bioc\R\bin\R.exe CMD INSTALL --build --library=ppcseq.buildbin-libdir ppcseq_1.12.0.tar.gz StartedAt: 2024-10-17 08:22:23 -0400 (Thu, 17 Oct 2024) EndedAt: 2024-10-17 08:28:00 -0400 (Thu, 17 Oct 2024) EllapsedTime: 336.2 seconds RetCode: 0 Status: OK PackageFile: ppcseq_1.12.0.zip PackageFileSize: 2.853 MiB