Package: ppcseq Version: 1.12.0 Command: chmod a+r ppcseq -R && E:\biocbuild\bbs-3.19-bioc\R\bin\R.exe CMD build --keep-empty-dirs --no-resave-data ppcseq StartedAt: 2024-10-16 21:11:41 -0400 (Wed, 16 Oct 2024) EndedAt: 2024-10-16 21:14:47 -0400 (Wed, 16 Oct 2024) EllapsedTime: 185.8 seconds RetCode: 0 Status: OK PackageFile: ppcseq_1.12.0.tar.gz PackageFileSize: 1.938 MiB