Package: primirTSS Version: 1.22.0 Command: chmod a+r primirTSS -R && E:\biocbuild\bbs-3.19-bioc\R\bin\R.exe CMD build --keep-empty-dirs --no-resave-data primirTSS StartedAt: 2024-10-16 21:13:16 -0400 (Wed, 16 Oct 2024) EndedAt: 2024-10-16 21:14:49 -0400 (Wed, 16 Oct 2024) EllapsedTime: 93.1 seconds RetCode: 0 Status: OK PackageFile: primirTSS_1.22.0.tar.gz PackageFileSize: 3.662 MiB