Package: proteinProfiles Version: 1.44.0 Command: /Library/Frameworks/R.framework/Resources/bin/R CMD build --keep-empty-dirs --no-resave-data proteinProfiles StartedAt: 2024-10-17 06:46:38 -0400 (Thu, 17 Oct 2024) EndedAt: 2024-10-17 06:46:57 -0400 (Thu, 17 Oct 2024) EllapsedTime: 19.4 seconds RetCode: 0 Status: OK PackageFile: proteinProfiles_1.44.0.tar.gz PackageFileSize: 383.8 KiB