Package: proteinProfiles Version: 1.44.0 Command: /Library/Frameworks/R.framework/Resources/bin/R CMD build --keep-empty-dirs --no-resave-data proteinProfiles StartedAt: 2024-06-10 02:49:04 -0400 (Mon, 10 Jun 2024) EndedAt: 2024-06-10 02:49:32 -0400 (Mon, 10 Jun 2024) EllapsedTime: 28.4 seconds RetCode: 0 Status: OK PackageFile: proteinProfiles_1.44.0.tar.gz PackageFileSize: 382.7 KiB