Package: proteinProfiles Version: 1.44.0 Command: /Library/Frameworks/R.framework/Resources/bin/R CMD build --keep-empty-dirs --no-resave-data proteinProfiles StartedAt: 2024-06-09 17:47:23 -0400 (Sun, 09 Jun 2024) EndedAt: 2024-06-09 17:47:37 -0400 (Sun, 09 Jun 2024) EllapsedTime: 14.7 seconds RetCode: 0 Status: OK PackageFile: proteinProfiles_1.44.0.tar.gz PackageFileSize: 382.8 KiB