Package: proteinProfiles Version: 1.44.0 Command: rm -rf proteinProfiles.buildbin-libdir && mkdir proteinProfiles.buildbin-libdir && /Users/biocbuild/BBS/utils/build-universal.sh proteinProfiles_1.44.0.tar.gz /Library/Frameworks/R.framework/Resources/bin/R proteinProfiles.buildbin-libdir StartedAt: 2024-10-17 16:53:15 -0400 (Thu, 17 Oct 2024) EndedAt: 2024-10-17 16:53:20 -0400 (Thu, 17 Oct 2024) EllapsedTime: 5.6 seconds RetCode: 0 Status: OK PackageFile: proteinProfiles_1.44.0.tgz PackageFileSize: 403.2 KiB