Package: proteinProfiles Version: 1.44.0 Command: /Library/Frameworks/R.framework/Resources/bin/R CMD check --install=check:proteinProfiles.install-out.txt --library=/Library/Frameworks/R.framework/Resources/library --no-vignettes --timings proteinProfiles_1.44.0.tar.gz StartedAt: 2024-10-17 11:11:40 -0400 (Thu, 17 Oct 2024) EndedAt: 2024-10-17 11:12:19 -0400 (Thu, 17 Oct 2024) EllapsedTime: 39.1 seconds RetCode: 0 Status: OK CheckDir: proteinProfiles.Rcheck Warnings: 0