Package: proteinProfiles Version: 1.44.0 Command: E:\biocbuild\bbs-3.19-bioc\R\bin\R.exe CMD INSTALL proteinProfiles StartedAt: 2024-10-16 15:59:45 -0400 (Wed, 16 Oct 2024) EndedAt: 2024-10-16 16:00:12 -0400 (Wed, 16 Oct 2024) EllapsedTime: 27.7 seconds RetCode: 0 Status: OK