Package: psichomics Version: 1.30.0 Command: /Library/Frameworks/R.framework/Resources/bin/R CMD build --keep-empty-dirs --no-resave-data psichomics StartedAt: 2024-10-17 06:48:32 -0400 (Thu, 17 Oct 2024) EndedAt: 2024-10-17 06:51:01 -0400 (Thu, 17 Oct 2024) EllapsedTime: 149.8 seconds RetCode: 0 Status: OK PackageFile: psichomics_1.30.0.tar.gz PackageFileSize: 6.124 MiB