Package: psichomics Version: 1.30.0 Command: /Library/Frameworks/R.framework/Resources/bin/R CMD INSTALL psichomics StartedAt: 2024-10-16 17:48:37 -0400 (Wed, 16 Oct 2024) EndedAt: 2024-10-16 17:50:04 -0400 (Wed, 16 Oct 2024) EllapsedTime: 86.9 seconds RetCode: 0 Status: OK