Package: psichomics Version: 1.30.0 Command: /home/biocbuild/bbs-3.19-bioc/R/bin/R CMD build --keep-empty-dirs --no-resave-data psichomics StartedAt: 2024-10-16 20:14:03 -0400 (Wed, 16 Oct 2024) EndedAt: 2024-10-16 20:15:59 -0400 (Wed, 16 Oct 2024) EllapsedTime: 116.2 seconds RetCode: 0 Status: OK PackageFile: psichomics_1.30.0.tar.gz PackageFileSize: 6.11 MiB