Package: psygenet2r Version: 1.36.0 Command: /home/biocbuild/R/R-beta-2024-04-15_r86425/bin/R CMD build --keep-empty-dirs --no-resave-data psygenet2r StartedAt: 2024-05-09 02:39:44 -0000 (Thu, 09 May 2024) EndedAt: 2024-05-09 02:51:01 -0000 (Thu, 09 May 2024) EllapsedTime: 676.9 seconds RetCode: 0 Status: OK PackageFile: psygenet2r_1.36.0.tar.gz PackageFileSize: 1.726 MiB