Package: psygenet2r Version: 1.36.0 Command: /home/biocbuild/R/R-beta-2024-04-15_r86425/bin/R CMD INSTALL psygenet2r StartedAt: 2024-05-08 20:29:04 -0000 (Wed, 08 May 2024) EndedAt: 2024-05-08 20:29:28 -0000 (Wed, 08 May 2024) EllapsedTime: 24.7 seconds RetCode: 0 Status: OK